BEGIN:VCALENDAR
VERSION:2.0
PRODID:-//MIT Baden-Württemberg - ECPv6.15.20//NONSGML v1.0//EN
CALSCALE:GREGORIAN
METHOD:PUBLISH
X-ORIGINAL-URL:https://mit-bw.de
X-WR-CALDESC:Veranstaltungen für MIT Baden-Württemberg
REFRESH-INTERVAL;VALUE=DURATION:PT1H
X-Robots-Tag:noindex
X-PUBLISHED-TTL:PT1H
BEGIN:VTIMEZONE
TZID:Europe/Berlin
BEGIN:DAYLIGHT
TZOFFSETFROM:+0100
TZOFFSETTO:+0200
TZNAME:CEST
DTSTART:20240331T010000
END:DAYLIGHT
BEGIN:STANDARD
TZOFFSETFROM:+0200
TZOFFSETTO:+0100
TZNAME:CET
DTSTART:20241027T010000
END:STANDARD
BEGIN:DAYLIGHT
TZOFFSETFROM:+0100
TZOFFSETTO:+0200
TZNAME:CEST
DTSTART:20250330T010000
END:DAYLIGHT
BEGIN:STANDARD
TZOFFSETFROM:+0200
TZOFFSETTO:+0100
TZNAME:CET
DTSTART:20251026T010000
END:STANDARD
BEGIN:DAYLIGHT
TZOFFSETFROM:+0100
TZOFFSETTO:+0200
TZNAME:CEST
DTSTART:20260329T010000
END:DAYLIGHT
BEGIN:STANDARD
TZOFFSETFROM:+0200
TZOFFSETTO:+0100
TZNAME:CET
DTSTART:20261025T010000
END:STANDARD
BEGIN:DAYLIGHT
TZOFFSETFROM:+0100
TZOFFSETTO:+0200
TZNAME:CEST
DTSTART:20270328T010000
END:DAYLIGHT
BEGIN:STANDARD
TZOFFSETFROM:+0200
TZOFFSETTO:+0100
TZNAME:CET
DTSTART:20271031T010000
END:STANDARD
END:VTIMEZONE
BEGIN:VEVENT
DTSTART;TZID=Europe/Berlin:20260304T170000
DTEND;TZID=Europe/Berlin:20260304T220000
DTSTAMP:20260421T140228
CREATED:20260204T090354Z
LAST-MODIFIED:20260204T090458Z
UID:7985-1772643600-1772661600@mit-bw.de
SUMMARY:MIT Göppingen: Einladung zur Kreis-Mitgliederversammlung mit Firmenbesichtigung
DESCRIPTION:Tagesordnung \n\n17 Uhr Begrüßung in Dürnau von Ralf Semmler \nBegrüßung und Führung durch Geschäftsführer Herr Frank Sommerfeld\n19 Uhr Deutsches Haus zum gemeinsamem Abendessen \nAllgemeine Diskussion über aktuelle Lage und die Landtagswahlen am 8.03.2026\n\nWir freuen uns auf Ihr Kommen und bitten aus organisatorischen Gründen um Anmeldung bis 02.03.2026 https://mit-gp.de/event/mit-mitgliederveranstaltung/
URL:https://mit-bw.de/event/einladung-zur-kreis-mitgliederversammlung-mit-firmenbesichtigung/
LOCATION:Netcom-Tec GmbH\, Daimlerstr. 10\, Dürnau\, 73105
ORGANIZER;CN="MIT G%C3%B6ppingen":MAILTO:info@mit-gp.de
END:VEVENT
BEGIN:VEVENT
DTSTART;TZID=Europe/Berlin:20260205T173000
DTEND;TZID=Europe/Berlin:20260205T200000
DTSTAMP:20260421T140228
CREATED:20260119T100806Z
LAST-MODIFIED:20260119T101002Z
UID:7890-1770312600-1770321600@mit-bw.de
SUMMARY:Neujahrsempfang bei Pusch Data GmbH
DESCRIPTION:
URL:https://mit-bw.de/event/neujahrsempfang-bei-pusch-data-gmbh/
LOCATION:Pusch Data GmbH\, Am Eichenbach 1\, Eislingen\, Baden-Württemberg\, 73054
ORGANIZER;CN="MIT G%C3%B6ppingen":MAILTO:info@mit-gp.de
END:VEVENT
BEGIN:VEVENT
DTSTART;TZID=Europe/Berlin:20260203T173000
DTEND;TZID=Europe/Berlin:20260203T230000
DTSTAMP:20260421T140228
CREATED:20260122T111728Z
LAST-MODIFIED:20260122T112154Z
UID:7952-1770139800-1770159600@mit-bw.de
SUMMARY:4. Unternehmerabend: Resilienz in stürmischen Zeiten
DESCRIPTION:  \n👉 Einladung Unternehmerabend im pdf-Format
URL:https://mit-bw.de/event/4-unternehmerabend-resilienz-in-stuermischen-zeiten/
LOCATION:Dornier Museum Friedrichshafen\, Claude-Dornier-Platz 1\, Friedrichshafen\, Baden-Württemberg\, 88046
END:VEVENT
BEGIN:VEVENT
DTSTART;TZID=Europe/Berlin:20260202T090000
DTEND;TZID=Europe/Berlin:20260203T200000
DTSTAMP:20260421T140228
CREATED:20260119T104513Z
LAST-MODIFIED:20260119T104513Z
UID:7900-1770022800-1770148800@mit-bw.de
SUMMARY:Baden-Württemberg-Tour von Gitta Connemann MdB
DESCRIPTION:Zu Beginn der heißen Wahlkampfphase wird unsere Bundesvorsitzende Gitta Connemann MdB eine zweitägige Baden-Württemberg-Tour absolvieren. \nNachfolgend die bislang bekannten Termine. Weitere Details zu den jeweiligen Veranstaltungen erhalten Sie direkt bei den Kandidatinnen und Kandidaten vor Ort: \n\n Februar 2026\n\n\n09:00–11:00 Uhr · Thomas Dörflinger · WK Biberach\n12:00–13:45 Uhr · Ilona Boos · WK Sigmaringen (Veranstaltungsort: Meßkirch)\n16:15–18:00 Uhr · Peter Schelshorn · WK Lörrach\n19:00–21:00 Uhr · Stefanie Wernet · WK Emmendingen\n\n\n Februar 2026\n\n\n09:00–11:00 Uhr · Katrin Schindele · WK Freudenstadt\n12:15–14:15 Uhr · Katrin Schütz · WK Karlsruhe-Stadt (noch angefragt)\n15:00–17:00 Uhr · Nicole Huber · WK Heidelberg\n17:30–19:15 Uhr · Lennart Christ · WK Mannheim I\n\n 
URL:https://mit-bw.de/event/baden-wuerttemberg-tour-von-gitta-connemann-mdb/
END:VEVENT
BEGIN:VEVENT
DTSTART;TZID=Europe/Berlin:20251204T173000
DTEND;TZID=Europe/Berlin:20251204T193000
DTSTAMP:20260421T140228
CREATED:20251201T125725Z
LAST-MODIFIED:20251201T125725Z
UID:7807-1764869400-1764876600@mit-bw.de
SUMMARY:AFTER-WORK: Wirtschaftsstandort BW - Herausforderungen & Perspektiven
DESCRIPTION:
URL:https://mit-bw.de/event/after-work-wirtschaftsstandort-bw-herausforderungen-perspektiven/
ATTACH;FMTTYPE=image/jpeg:https://mit-bw.de/wp-content/uploads/2025/12/WhatsApp-Image-2025-11-30-at-22.37.24.jpeg
END:VEVENT
BEGIN:VEVENT
DTSTART;VALUE=DATE:20251204
DTEND;VALUE=DATE:20251205
DTSTAMP:20260421T140228
CREATED:20251102T110525Z
LAST-MODIFIED:20251106T125930Z
UID:7769-1764806400-1764892799@mit-bw.de
SUMMARY:Kreismittelstandstag Kreisverband Stuttgart
DESCRIPTION:
URL:https://mit-bw.de/event/kreismittelstandstag-kreisverband-stuttgart/
END:VEVENT
BEGIN:VEVENT
DTSTART;VALUE=DATE:20251124
DTEND;VALUE=DATE:20251125
DTSTAMP:20260421T140228
CREATED:20251102T110359Z
LAST-MODIFIED:20251102T110359Z
UID:7766-1763942400-1764028799@mit-bw.de
SUMMARY:Sitzung Bezirksvorstands MIT Nordbaden
DESCRIPTION:
URL:https://mit-bw.de/event/sitzung-bezirksvorstands-mit-nordbaden/
END:VEVENT
BEGIN:VEVENT
DTSTART;VALUE=DATE:20251121
DTEND;VALUE=DATE:20251123
DTSTAMP:20260421T140228
CREATED:20251117T113341Z
LAST-MODIFIED:20251117T113341Z
UID:7780-1763683200-1763855999@mit-bw.de
SUMMARY:Klausurtagung Bezirksvorstand MIT Württemberg-Hohenzollern.
DESCRIPTION:
URL:https://mit-bw.de/event/klausurtagung-bezirksvorstand-mit-wuerttemberg-hohenzollern/
LOCATION:Biberach
END:VEVENT
BEGIN:VEVENT
DTSTART;TZID=Europe/Berlin:20251119T180000
DTEND;TZID=Europe/Berlin:20251119T200000
DTSTAMP:20260421T140228
CREATED:20251106T125604Z
LAST-MODIFIED:20251106T125812Z
UID:7773-1763575200-1763582400@mit-bw.de
SUMMARY:Kreismittelstandstag Kreisverband Ravensburg
DESCRIPTION:
URL:https://mit-bw.de/event/kreismittelstandstag-kreisverband-ravensburg/
END:VEVENT
BEGIN:VEVENT
DTSTART;TZID=Europe/Berlin:20251115T093000
DTEND;TZID=Europe/Berlin:20251115T163000
DTSTAMP:20260421T140228
CREATED:20251102T110043Z
LAST-MODIFIED:20251102T110043Z
UID:7760-1763199000-1763224200@mit-bw.de
SUMMARY:Sitzung Landesvorstand
DESCRIPTION:
URL:https://mit-bw.de/event/sitzung-landesvorstand/
LOCATION:Radolfzell
END:VEVENT
BEGIN:VEVENT
DTSTART;TZID=Europe/Berlin:20251112T180000
DTEND;TZID=Europe/Berlin:20251112T193000
DTSTAMP:20260421T140228
CREATED:20251102T105918Z
LAST-MODIFIED:20251102T105918Z
UID:7758-1762970400-1762975800@mit-bw.de
SUMMARY:Sitzung Arbeitskreis Wirtschaftsforum
DESCRIPTION:
URL:https://mit-bw.de/event/sitzung-arbeitskreis-wirtschaftsforum/
LOCATION:Digital
END:VEVENT
BEGIN:VEVENT
DTSTART;TZID=Europe/Berlin:20251104T180000
DTEND;TZID=Europe/Berlin:20251104T193000
DTSTAMP:20260421T140228
CREATED:20251102T105801Z
LAST-MODIFIED:20251102T105801Z
UID:7754-1762279200-1762284600@mit-bw.de
SUMMARY:Sitzung Arbeitskreis Social Media & Digitale Kommunikation
DESCRIPTION:
URL:https://mit-bw.de/event/sitzung-arbeitskreis-social-media-digitale-kommunikation/
LOCATION:Digital
END:VEVENT
BEGIN:VEVENT
DTSTART;TZID=Europe/Berlin:20251023T183000
DTEND;TZID=Europe/Berlin:20251023T183000
DTSTAMP:20260421T140228
CREATED:20250925T100549Z
LAST-MODIFIED:20251014T064855Z
UID:7640-1761244200-1761244200@mit-bw.de
SUMMARY:2. Mittelstandsforum mit Carsten Linnemann MdB
DESCRIPTION:  \nEinlass ab 17 Uhr
URL:https://mit-bw.de/event/mittelstandsforum/
LOCATION:Gapp Holzbau\, Produkionshalle\, Ulmerstraße 25\, Öpfingen\, 89614
ATTACH;FMTTYPE=image/jpeg:https://mit-bw.de/wp-content/uploads/2025/09/Kreise_Bezirke_MIT-Alb-Donau-Ulm_Mittelstandsforum-scaled.jpg
END:VEVENT
END:VCALENDAR