BEGIN:VCALENDAR
VERSION:2.0
PRODID:-//MIT Baden-Württemberg - ECPv6.15.20//NONSGML v1.0//EN
CALSCALE:GREGORIAN
METHOD:PUBLISH
X-WR-CALNAME:MIT Baden-Württemberg
X-ORIGINAL-URL:https://mit-bw.de
X-WR-CALDESC:Veranstaltungen für MIT Baden-Württemberg
REFRESH-INTERVAL;VALUE=DURATION:PT1H
X-Robots-Tag:noindex
X-PUBLISHED-TTL:PT1H
BEGIN:VTIMEZONE
TZID:Europe/Berlin
BEGIN:DAYLIGHT
TZOFFSETFROM:+0100
TZOFFSETTO:+0200
TZNAME:CEST
DTSTART:20250330T010000
END:DAYLIGHT
BEGIN:STANDARD
TZOFFSETFROM:+0200
TZOFFSETTO:+0100
TZNAME:CET
DTSTART:20251026T010000
END:STANDARD
BEGIN:DAYLIGHT
TZOFFSETFROM:+0100
TZOFFSETTO:+0200
TZNAME:CEST
DTSTART:20260329T010000
END:DAYLIGHT
BEGIN:STANDARD
TZOFFSETFROM:+0200
TZOFFSETTO:+0100
TZNAME:CET
DTSTART:20261025T010000
END:STANDARD
BEGIN:DAYLIGHT
TZOFFSETFROM:+0100
TZOFFSETTO:+0200
TZNAME:CEST
DTSTART:20270328T010000
END:DAYLIGHT
BEGIN:STANDARD
TZOFFSETFROM:+0200
TZOFFSETTO:+0100
TZNAME:CET
DTSTART:20271031T010000
END:STANDARD
END:VTIMEZONE
BEGIN:VEVENT
DTSTART;TZID=Europe/Berlin:20260202T090000
DTEND;TZID=Europe/Berlin:20260203T200000
DTSTAMP:20260421T191321
CREATED:20260119T104513Z
LAST-MODIFIED:20260119T104513Z
UID:7900-1770022800-1770148800@mit-bw.de
SUMMARY:Baden-Württemberg-Tour von Gitta Connemann MdB
DESCRIPTION:Zu Beginn der heißen Wahlkampfphase wird unsere Bundesvorsitzende Gitta Connemann MdB eine zweitägige Baden-Württemberg-Tour absolvieren. \nNachfolgend die bislang bekannten Termine. Weitere Details zu den jeweiligen Veranstaltungen erhalten Sie direkt bei den Kandidatinnen und Kandidaten vor Ort: \n\n Februar 2026\n\n\n09:00–11:00 Uhr · Thomas Dörflinger · WK Biberach\n12:00–13:45 Uhr · Ilona Boos · WK Sigmaringen (Veranstaltungsort: Meßkirch)\n16:15–18:00 Uhr · Peter Schelshorn · WK Lörrach\n19:00–21:00 Uhr · Stefanie Wernet · WK Emmendingen\n\n\n Februar 2026\n\n\n09:00–11:00 Uhr · Katrin Schindele · WK Freudenstadt\n12:15–14:15 Uhr · Katrin Schütz · WK Karlsruhe-Stadt (noch angefragt)\n15:00–17:00 Uhr · Nicole Huber · WK Heidelberg\n17:30–19:15 Uhr · Lennart Christ · WK Mannheim I\n\n 
URL:https://mit-bw.de/event/baden-wuerttemberg-tour-von-gitta-connemann-mdb/
END:VEVENT
END:VCALENDAR